BEGIN:VCALENDAR
VERSION:2.0
PRODID:-//https://lecze-salezjanie.pl///DJ-Events//EN
BEGIN:VEVENT
SUMMARY:W intencji Bogu wiadomej
UID:2190@https://lecze-salezjanie.pl/
DTSTART:20240409T170000
DTEND:20240409T170000
DTSTAMP:20260422T193220
CATEGORIES:Msza święta
LOCATION:Suchacz 82-340 Kielecka 14
GEO:54.2856461944789;19.44132685661316
DESCRIPTION:
URL:https://lecze-salezjanie.pl//component/djevents/details/2024-04-09/2190-w-intencji-bogu-wiadomej-6
END:VEVENT
END:VCALENDAR
