BEGIN:VCALENDAR
VERSION:2.0
PRODID:-//https://lecze-salezjanie.pl///DJ-Events//EN
BEGIN:VEVENT
SUMMARY:+ Józef Sulima - Msza święta Gregoriańska (14)
UID:2173@https://lecze-salezjanie.pl/
DTSTART:20240414T103000
DTEND:20240414T103000
DTSTAMP:20260422T210416
CATEGORIES:Msza święta
LOCATION:Suchacz 82-340 Kielecka 14
GEO:54.2856461944789;19.44132685661316
DESCRIPTION:
URL:https://lecze-salezjanie.pl//component/djevents/details/2024-04-14/2173-jozef-sulima-msza-swieta-gregorianska-14
END:VEVENT
END:VCALENDAR
