BEGIN:VCALENDAR
VERSION:2.0
PRODID:-//https://lecze-salezjanie.pl///DJ-Events//EN
BEGIN:VEVENT
SUMMARY:+ Krystyna Adamicka - w miesiąc po śmierci
UID:2184@https://lecze-salezjanie.pl/
DTSTART:20240414T090000
DTEND:20240414T090000
DTSTAMP:20260422T210707
CATEGORIES:Msza święta
LOCATION:Suchacz 82-340 Kielecka 14
GEO:54.2856461944789;19.44132685661316
DESCRIPTION:
URL:https://lecze-salezjanie.pl//component/djevents/details/2024-04-14/2184-krystyna-adamicka-w-miesiac-po-smierci
END:VEVENT
END:VCALENDAR
