BEGIN:VCALENDAR
VERSION:2.0
PRODID:-//https://lecze-salezjanie.pl///DJ-Events//EN
BEGIN:VEVENT
SUMMARY:Ofiara Mszy świętej do dyspozycji Matki Bożej
UID:2192@https://lecze-salezjanie.pl/
DTSTART:20240416T170000
DTEND:20240416T170000
DTSTAMP:20260422T210706
CATEGORIES:Msza święta
LOCATION:Suchacz 82-340 Kielecka 14
GEO:54.2856461944789;19.44132685661316
DESCRIPTION:
URL:https://lecze-salezjanie.pl//component/djevents/details/2024-04-16/2192-ofiara-mszy-swietej-do-dyspozycji-matki-bozej-1
END:VEVENT
END:VCALENDAR
