BEGIN:VCALENDAR
VERSION:2.0
PRODID:-//https://lecze-salezjanie.pl///DJ-Events//EN
BEGIN:VEVENT
SUMMARY:+ Tadeusz Szymański - z okazji urodzin
UID:2163@https://lecze-salezjanie.pl/
DTSTART:20240417T180000
DTEND:20240417T180000
DTSTAMP:20260422T210753
CATEGORIES:Msza święta
LOCATION:Łęcze 82-340 Łęcze 48
GEO:54.2700545652713;19.468870040475466
DESCRIPTION:
URL:https://lecze-salezjanie.pl//component/djevents/details/2024-04-17/2163-tadeusz-szymanski-z-okazji-urodzin
END:VEVENT
END:VCALENDAR
