BEGIN:VCALENDAR
VERSION:2.0
PRODID:-//https://lecze-salezjanie.pl///DJ-Events//EN
BEGIN:VEVENT
SUMMARY:+ Wanda Fabisiak - w 4 rocznicę śmierci i zmarli z rodziny
UID:2087@https://lecze-salezjanie.pl/
DTSTART:20240421T103000
DTEND:20240421T103000
DTSTAMP:20260423T002022
CATEGORIES:Msza święta
LOCATION:Suchacz 82-340 Kielecka 14
GEO:54.2856461944789;19.44132685661316
DESCRIPTION:
URL:https://lecze-salezjanie.pl//component/djevents/details/2024-04-21/2087-wanda-fabisiak-w-4-rocznice-smierci-i-zmarli-z-rodziny-1
END:VEVENT
END:VCALENDAR
