BEGIN:VCALENDAR
VERSION:2.0
PRODID:-//https://lecze-salezjanie.pl///DJ-Events//EN
BEGIN:VEVENT
SUMMARY:O potrzebne łaski dla Karoliny, księdza Michała i Urszuli za wstawiennictwem Matki Bożej Bolesnej i św. Józefa
UID:2218@https://lecze-salezjanie.pl/
DTSTART:20240424T180000
DTEND:20240424T180000
DTSTAMP:20260422T224530
CATEGORIES:Msza święta
LOCATION:Łęcze 82-340 Łęcze 48
GEO:54.2700545652713;19.468870040475466
DESCRIPTION:
URL:https://lecze-salezjanie.pl//component/djevents/details/2024-04-24/2218-o-potrzebne-laski-dla-karoliny-ksiedza-michala-i-urszuli-za-wstawiennictwem-matki-bozej-bolesnej-i-sw-jozefa
END:VEVENT
END:VCALENDAR
