BEGIN:VCALENDAR
VERSION:2.0
PRODID:-//https://lecze-salezjanie.pl///DJ-Events//EN
BEGIN:VEVENT
SUMMARY:O Boże Błogosławieństwo i Dary Ducha Świętego dla Stanisława z okazji imienin
UID:2183@https://lecze-salezjanie.pl/
DTSTART:20240425T170000
DTEND:20240425T170000
DTSTAMP:20260423T001751
CATEGORIES:Msza święta
LOCATION:Suchacz 82-340 Kielecka 14
GEO:54.2856461944789;19.44132685661316
DESCRIPTION:
URL:https://lecze-salezjanie.pl//component/djevents/details/2024-04-25/2183-o-boze-blogoslawienstwo-i-dary-ducha-swietego-dla-stanislawa-z-okazji-imienin
END:VEVENT
END:VCALENDAR
