BEGIN:VCALENDAR
VERSION:2.0
PRODID:-//https://lecze-salezjanie.pl///DJ-Events//EN
BEGIN:VEVENT
SUMMARY:Marlena Grzywacz i Rafał Gierczak
UID:2220@https://lecze-salezjanie.pl/
DTSTART:20240427T160000
DTEND:20240427T160000
DTSTAMP:20260422T224248
CATEGORIES:Ślub
LOCATION:Łęcze 82-340 Łęcze 48
GEO:54.2700545652713;19.468870040475466
DESCRIPTION:
URL:https://lecze-salezjanie.pl//component/djevents/details/2024-04-27/2220-marlena-grzywacz-i-rafal-gierczak
END:VEVENT
END:VCALENDAR
