BEGIN:VCALENDAR
VERSION:2.0
PRODID:-//https://lecze-salezjanie.pl///DJ-Events//EN
BEGIN:VEVENT
SUMMARY:+ Józef Sulima - Msza święta Gregoriańska (28)
UID:2179@https://lecze-salezjanie.pl/
DTSTART:20240428T090000
DTEND:20240428T090000
DTSTAMP:20260423T002441
CATEGORIES:Msza święta
LOCATION:Suchacz 82-340 Kielecka 14
GEO:54.2856461944789;19.44132685661316
DESCRIPTION:
URL:https://lecze-salezjanie.pl//component/djevents/details/2024-04-28/2179-jozef-sulima-msza-swieta-gregorianska-28
END:VEVENT
END:VCALENDAR
