BEGIN:VCALENDAR
VERSION:2.0
PRODID:-//https://lecze-salezjanie.pl///DJ-Events//EN
BEGIN:VEVENT
SUMMARY:+ Feliks Milczarek - w 7 rocznicę śmierci i zmarli z rodziny Milczarków i Nagornych
UID:2182@https://lecze-salezjanie.pl/
DTSTART:20240428T103000
DTEND:20240428T103000
DTSTAMP:20260423T003004
CATEGORIES:Msza święta
LOCATION:Suchacz 82-340 Kielecka 14
GEO:54.2856461944789;19.44132685661316
DESCRIPTION:
URL:https://lecze-salezjanie.pl//component/djevents/details/2024-04-28/2182-zdzislaw-stoklosinski-w-pol-roku-od-smierci-i-zmarli-z-rodziny-stoklosinskich-i-pieknikow-1
END:VEVENT
END:VCALENDAR
