BEGIN:VCALENDAR
VERSION:2.0
PRODID:-//https://lecze-salezjanie.pl///DJ-Events//EN
BEGIN:VEVENT
SUMMARY:+ Józef Sulima - Msza święta Gregoriańska (29)
UID:2161@https://lecze-salezjanie.pl/
DTSTART:20240429T180000
DTEND:20240429T180000
DTSTAMP:20260423T002513
CATEGORIES:Msza święta
LOCATION:Łęcze 82-340 Łęcze 48
GEO:54.2700545652713;19.468870040475466
DESCRIPTION:
URL:https://lecze-salezjanie.pl//component/djevents/details/2024-04-29/2161-jozef-sulima-msza-swieta-gregorianska-29
END:VEVENT
END:VCALENDAR
