BEGIN:VCALENDAR
VERSION:2.0
PRODID:-//https://lecze-salezjanie.pl///DJ-Events//EN
BEGIN:VEVENT
SUMMARY:O zdrowie, Boże Błogosławieństwo i opiekę Matki Bożej dla Zygmunta Madery - w 93 urodziny
UID:2187@https://lecze-salezjanie.pl/
DTSTART:20240429T180000
DTEND:20240429T180000
DTSTAMP:20260423T003020
CATEGORIES:Msza święta
LOCATION:Łęcze 82-340 Łęcze 48
GEO:54.2700545652713;19.468870040475466
DESCRIPTION:
URL:https://lecze-salezjanie.pl//component/djevents/details/2024-04-29/2187-o-zdrowie-boze-blogoslawienstwo-i-opieke-matki-bozej-dla-zygmunta-madery-w-93-urodziny
END:VEVENT
END:VCALENDAR
