BEGIN:VCALENDAR
VERSION:2.0
PRODID:-//https://lecze-salezjanie.pl///DJ-Events//EN
BEGIN:VEVENT
SUMMARY:+ Zdzisław Stokłosiński - w pół roku od śmierci i zmarli z rodziny Stokłosińskich i Piękników
UID:2181@https://lecze-salezjanie.pl/
DTSTART:20240430T170000
DTEND:20240430T170000
DTSTAMP:20260423T003005
CATEGORIES:Msza święta
LOCATION:Suchacz 82-340 Kielecka 14
GEO:54.2856461944789;19.44132685661316
DESCRIPTION:
URL:https://lecze-salezjanie.pl//component/djevents/details/2024-04-30/2181-zdzislaw-stoklosinski-w-pol-roku-od-smierci-i-zmarli-z-rodziny-stoklosinskich-i-pieknikow
END:VEVENT
END:VCALENDAR
