BEGIN:VCALENDAR
VERSION:2.0
PRODID:-//https://lecze-salezjanie.pl///DJ-Events//EN
BEGIN:VEVENT
SUMMARY:O dary Ducha Świętego, uzdrowienie relacji z Dawidem, zdrowie i opiekę Matki Bożej dla Wojtka
UID:2221@https://lecze-salezjanie.pl/
DTSTART:20240501T180000
DTEND:20240501T180000
DTSTAMP:20260423T003004
CATEGORIES:Msza święta
LOCATION:Łęcze 82-340 Łęcze 48
GEO:54.2700545652713;19.468870040475466
DESCRIPTION:
URL:https://lecze-salezjanie.pl//component/djevents/details/2024-05-01/2221-o-dary-ducha-swietego-uzdrowienie-relacji-z-dawidem-zdrowie-i-opieke-matki-bozej-dla-wojtka
END:VEVENT
END:VCALENDAR
