BEGIN:VCALENDAR
VERSION:2.0
PRODID:-//https://lecze-salezjanie.pl///DJ-Events//EN
BEGIN:VEVENT
SUMMARY:+ Dominik Rygała - Msza święta Gregoriańska (2)
UID:1955@https://lecze-salezjanie.pl/
DTSTART:20240502T170000
DTEND:20240502T170000
DTSTAMP:20260423T002440
CATEGORIES:Msza święta
LOCATION:Suchacz 82-340 Kielecka 14
GEO:54.2856461944789;19.44132685661316
DESCRIPTION:
URL:https://lecze-salezjanie.pl//component/djevents/details/2024-05-02/1955-dominik-rygala-msza-swieta-gregorianska-2
END:VEVENT
END:VCALENDAR
