BEGIN:VCALENDAR
VERSION:2.0
PRODID:-//https://lecze-salezjanie.pl///DJ-Events//EN
BEGIN:VEVENT
SUMMARY:+ Apolonia, Eugenia i Andrzej Karpińscy
UID:2089@https://lecze-salezjanie.pl/
DTSTART:20240503T120000
DTEND:20240503T120000
DTSTAMP:20260423T002851
CATEGORIES:Msza święta
LOCATION:Kamionek Wielki 82-340 Kamionek Wielki 5
GEO:54.262029131955885;19.404954271163948
DESCRIPTION:
URL:https://lecze-salezjanie.pl//component/djevents/details/2024-05-03/2089-apolonia-eugenia-i-andrzej-karpinscy
END:VEVENT
END:VCALENDAR
