BEGIN:VCALENDAR
VERSION:2.0
PRODID:-//https://lecze-salezjanie.pl///DJ-Events//EN
BEGIN:VEVENT
SUMMARY:+ Dominik Rygała - Msza święta Gregoriańska (5)
UID:1959@https://lecze-salezjanie.pl/
DTSTART:20240505T090000
DTEND:20240505T090000
DTSTAMP:20260423T021033
CATEGORIES:Msza święta
LOCATION:Suchacz 82-340 Kielecka 14
GEO:54.2856461944789;19.44132685661316
DESCRIPTION:
URL:https://lecze-salezjanie.pl//component/djevents/details/2024-05-05/1959-dominik-rygala-msza-swieta-gregorianska-5
END:VEVENT
END:VCALENDAR
