BEGIN:VCALENDAR
VERSION:2.0
PRODID:-//https://lecze-salezjanie.pl///DJ-Events//EN
BEGIN:VEVENT
SUMMARY:O zdrowie, Błogosławieństwo Boże i opiekę Matki Bożej dla Hanny - od dzieci
UID:2198@https://lecze-salezjanie.pl/
DTSTART:20240505T090000
DTEND:20240505T090000
DTSTAMP:20260423T022217
CATEGORIES:Msza święta
LOCATION:Łęcze 82-340 Łęcze 48
GEO:54.2700545652713;19.468870040475466
DESCRIPTION:
URL:https://lecze-salezjanie.pl//component/djevents/details/2024-05-05/2198-o-zdrowie-blogoslawienstwo-boze-i-opieke-matki-bozej-dla-hanny-od-dzieci
END:VEVENT
END:VCALENDAR
