BEGIN:VCALENDAR
VERSION:2.0
PRODID:-//https://lecze-salezjanie.pl///DJ-Events//EN
BEGIN:VEVENT
SUMMARY:+ Stanisława i Ryszard Jabłońscy
UID:2199@https://lecze-salezjanie.pl/
DTSTART:20240505T120000
DTEND:20240505T120000
DTSTAMP:20260423T020757
CATEGORIES:Msza święta
LOCATION:Łęcze 82-340 Łęcze 48
GEO:54.2700545652713;19.468870040475466
DESCRIPTION:
URL:https://lecze-salezjanie.pl//component/djevents/details/2024-05-05/2199-stanislawa-i-ryszard-jablonscy
END:VEVENT
END:VCALENDAR
