BEGIN:VCALENDAR
VERSION:2.0
PRODID:-//https://lecze-salezjanie.pl///DJ-Events//EN
BEGIN:VEVENT
SUMMARY:O Boże Błogosławieństwo i potrzebne łaski dla Karoliny i Marka za wstawiennictwem Matki Bożej Bolesnej i świętego Józefa
UID:2238@https://lecze-salezjanie.pl/
DTSTART:20240507T180000
DTEND:20240507T180000
DTSTAMP:20260423T022130
CATEGORIES:Msza święta
LOCATION:Łęcze 82-340 Łęcze 48
GEO:54.2700545652713;19.468870040475466
DESCRIPTION:
URL:https://lecze-salezjanie.pl//component/djevents/details/2024-05-07/2238-o-boze-blogoslawienstwo-i-potrzebne-laski-dla-karoliny-i-marka-za-wstawiennictwem-matki-bozej-bolesnej-i-swietego-jozefa
END:VEVENT
END:VCALENDAR
