BEGIN:VCALENDAR
VERSION:2.0
PRODID:-//https://lecze-salezjanie.pl///DJ-Events//EN
BEGIN:VEVENT
SUMMARY:+ Dominik Rygała - Msza święta Gregoriańska (9)
UID:1963@https://lecze-salezjanie.pl/
DTSTART:20240509T170000
DTEND:20240509T170000
DTSTAMP:20260423T040055
CATEGORIES:Msza święta
LOCATION:Suchacz 82-340 Kielecka 14
GEO:54.2856461944789;19.44132685661316
DESCRIPTION:
URL:https://lecze-salezjanie.pl//component/djevents/details/2024-05-09/1963-dominik-rygala-msza-swieta-gregorianska-9
END:VEVENT
END:VCALENDAR
