BEGIN:VCALENDAR
VERSION:2.0
PRODID:-//https://lecze-salezjanie.pl///DJ-Events//EN
BEGIN:VEVENT
SUMMARY:O uzdrowienie wzroku, siły i zdrowie oraz opiekę Matki Bożej dla Jadwigi Makarewicz
UID:2237@https://lecze-salezjanie.pl/
DTSTART:20240509T180000
DTEND:20240509T180000
DTSTAMP:20260423T021911
CATEGORIES:Msza święta
LOCATION:Łęcze 82-340 Łęcze 48
GEO:54.2700545652713;19.468870040475466
DESCRIPTION:
URL:https://lecze-salezjanie.pl//component/djevents/details/2024-05-09/2237-o-uzdrowienie-wzroku-sily-i-zdrowie-oraz-opieke-matki-bozej-dla-jadwigi-makarewicz
END:VEVENT
END:VCALENDAR
