BEGIN:VCALENDAR
VERSION:2.0
PRODID:-//https://lecze-salezjanie.pl///DJ-Events//EN
BEGIN:VEVENT
SUMMARY:+ Hieronima, Paweł Święccy oraz Władysława, Stefan i Waldemar Postek
UID:2276@https://lecze-salezjanie.pl/
DTSTART:20240616T090000
DTEND:20240616T090000
DTSTAMP:20260425T190943
CATEGORIES:Msza święta
LOCATION:Suchacz 82-340 Kielecka 14
GEO:54.2856461944789;19.44132685661316
DESCRIPTION:
URL:https://lecze-salezjanie.pl//component/djevents/details/2024-06-16/2276-hieronima-pawel-swieccy-oraz-wladyslawa-stefan-i-waldemar-postek
END:VEVENT
END:VCALENDAR
