BEGIN:VCALENDAR
VERSION:2.0
PRODID:-//https://lecze-salezjanie.pl///DJ-Events//EN
BEGIN:VEVENT
SUMMARY:+ Wiesław i Władysław Kwaśny i zmarli rodzice z obojga stron oraz Eugeniusz, Wanda, Helena i Maria
UID:2324@https://lecze-salezjanie.pl/
DTSTART:20240710T180000
DTEND:20240710T180000
DTSTAMP:20260425T142105
CATEGORIES:Msza święta
LOCATION:Łęcze 82-340 Łęcze 48
GEO:54.2700545652713;19.468870040475466
DESCRIPTION:
URL:https://lecze-salezjanie.pl//component/djevents/details/2024-07-10/2324-wieslaw-i-wladyslaw-kwasny-i-zmarli-rodzice-z-obojga-stron-oraz-eugeniusz-wanda-helena-i-maria
END:VEVENT
END:VCALENDAR
