BEGIN:VCALENDAR
VERSION:2.0
PRODID:-//https://lecze-salezjanie.pl///DJ-Events//EN
BEGIN:VEVENT
SUMMARY:Za księdza Michała Olszewskiego, księdza Piotra Glassa i księdza Dominika Chmielewskiego
UID:2323@https://lecze-salezjanie.pl/
DTSTART:20240713T180000
DTEND:20240713T180000
DTSTAMP:20260425T142105
CATEGORIES:Msza święta
LOCATION:Łęcze 82-340 Łęcze 48
GEO:54.2700545652713;19.468870040475466
DESCRIPTION:
URL:https://lecze-salezjanie.pl//component/djevents/details/2024-07-13/2323-za-ksiedza-michala-olszewskiego-ksiedza-piotra-glassa-i-ksiedza-dominika-chmielewskiego
END:VEVENT
END:VCALENDAR
