BEGIN:VCALENDAR
VERSION:2.0
PRODID:-//https://lecze-salezjanie.pl///DJ-Events//EN
BEGIN:VEVENT
SUMMARY:+ Apolonia i Kazimierz Machcińscy, Natalia i Jan Madej, Irena Listkowska
UID:2058@https://lecze-salezjanie.pl/
DTSTART:20240818T090000
DTEND:20240818T090000
DTSTAMP:20260423T002958
CATEGORIES:Msza święta
LOCATION:Łęcze 82-340 Łęcze 48
GEO:54.2700545652713;19.468870040475466
DESCRIPTION:
URL:https://lecze-salezjanie.pl//component/djevents/details/2024-08-18/2058-apolonia-i-kazimierz-machcinscy-natalia-i-jan-madej-irena-listkowska-2
END:VEVENT
END:VCALENDAR
