BEGIN:VCALENDAR
VERSION:2.0
PRODID:-//https://lecze-salezjanie.pl///DJ-Events//EN
BEGIN:VEVENT
SUMMARY:+ Waldemar Postek i zmarli z całej z rodziny
UID:2318@https://lecze-salezjanie.pl/
DTSTART:20240822T170000
DTEND:20240822T170000
DTSTAMP:20260423T002813
CATEGORIES:Msza święta
LOCATION:Suchacz 82-340 Kielecka 14
GEO:54.2856461944789;19.44132685661316
DESCRIPTION:
URL:https://lecze-salezjanie.pl//component/djevents/details/2024-08-22/2318-waldemar-postek-i-zmarli-z-calej-z-rodziny-1
END:VEVENT
END:VCALENDAR
