BEGIN:VCALENDAR
VERSION:2.0
PRODID:-//https://lecze-salezjanie.pl///DJ-Events//EN
BEGIN:VEVENT
SUMMARY:O Boże Błogosławieństwo, opiekę Matki Bożej oraz wstawiennictwo świętych Patronów dla rodzin: Wydra, Miros i Jaworek
UID:2366@https://lecze-salezjanie.pl/
DTSTART:20240823T180000
DTEND:20240823T180000
DTSTAMP:20260423T003117
CATEGORIES:Msza święta
LOCATION:Łęcze 82-340 Łęcze 48
GEO:54.2700545652713;19.468870040475466
DESCRIPTION:
URL:https://lecze-salezjanie.pl//component/djevents/details/2024-08-23/2366-o-boze-blogoslawienstwo-opieke-matki-bozej-oraz-wstawiennictwo-swietych-patronow-dla-rodzin-wydra-miros-i-jaworek
END:VEVENT
END:VCALENDAR
