BEGIN:VCALENDAR
VERSION:2.0
PRODID:-//https://lecze-salezjanie.pl///DJ-Events//EN
BEGIN:VEVENT
SUMMARY:+ Izabela Chalastra -  w miesiąc po pogrzebie
UID:2329@https://lecze-salezjanie.pl/
DTSTART:20240824T180000
DTEND:20240824T180000
DTSTAMP:20260423T002947
CATEGORIES:Msza święta
LOCATION:Łęcze 82-340 Łęcze 48
GEO:54.2700545652713;19.468870040475466
DESCRIPTION:
URL:https://lecze-salezjanie.pl//component/djevents/details/2024-08-24/2329-izabela-chalastra-w-miesiac-po-pogrzebie
END:VEVENT
END:VCALENDAR
