BEGIN:VCALENDAR
VERSION:2.0
PRODID:-//https://lecze-salezjanie.pl///DJ-Events//EN
BEGIN:VEVENT
SUMMARY:+ Kazimierz Milewski - w 22 rocznicę śmierci i Sławomir Milewski - w 1 rocznicę śmierci
UID:2358@https://lecze-salezjanie.pl/
DTSTART:20240922T120000
DTEND:20240922T120000
DTSTAMP:20260422T155518
CATEGORIES:Msza święta
LOCATION:Kamionek Wielki 82-340 Kamionek Wielki 5
GEO:54.262029131955885;19.404954271163948
DESCRIPTION:
URL:https://lecze-salezjanie.pl//component/djevents/details/2024-09-22/2358-kazimierz-milewski-w-22-rocznice-smierci-i-slawomir-milewski-w-1-rocznice-smierci
END:VEVENT
END:VCALENDAR
