BEGIN:VCALENDAR
VERSION:2.0
PRODID:-//https://lecze-salezjanie.pl///DJ-Events//EN
BEGIN:VEVENT
SUMMARY:+ Stefan Czarnecki - Msza święta gregoriańska (24)
UID:2400@https://lecze-salezjanie.pl/
DTSTART:20240924T170000
DTEND:20240924T170000
DTSTAMP:20260419T153901
CATEGORIES:Msza święta
LOCATION:Suchacz 82-340 Kielecka 14
GEO:54.2856461944789;19.44132685661316
DESCRIPTION:
URL:https://lecze-salezjanie.pl//component/djevents/details/2024-09-24/2400-stefan-czarnecki-msza-swieta-gregorianska-24
END:VEVENT
END:VCALENDAR
