BEGIN:VCALENDAR
VERSION:2.0
PRODID:-//https://lecze-salezjanie.pl///DJ-Events//EN
BEGIN:VEVENT
SUMMARY:+ Bogumiła Machajewska
UID:1995@https://lecze-salezjanie.pl/
DTSTART:20240929T103000
DTEND:20240929T103000
DTSTAMP:20260419T141706
CATEGORIES:Msza święta
LOCATION:Suchacz 82-340 Kielecka 14
GEO:54.2856461944789;19.44132685661316
DESCRIPTION:
URL:https://lecze-salezjanie.pl//component/djevents/details/2024-09-29/1995-bogumila-machajewska
END:VEVENT
END:VCALENDAR
