BEGIN:VCALENDAR
VERSION:2.0
PRODID:-//https://lecze-salezjanie.pl///DJ-Events//EN
BEGIN:VEVENT
SUMMARY:Dziękczynno-błagalna za Annę i Waldemara  z okazji 50 rocznicy sakramentu małżeństwa z prośbą o Boże Błogosławieństwo i opiekę Matki Bożej Wspomożenia Wiernych, wstawiennictwa świętych patronów dla Jubilatów i ich najbliższych - od siostry Małgorzaty
UID:2427@https://lecze-salezjanie.pl/
DTSTART:20240929T090000
DTEND:20240929T090000
DTSTAMP:20260419T142129
CATEGORIES:Msza święta
LOCATION:Suchacz 82-340 Kielecka 14
GEO:54.2856461944789;19.44132685661316
DESCRIPTION:
URL:https://lecze-salezjanie.pl//component/djevents/details/2024-09-29/2427-dziekczynno-blagalna-za-anne-i-waldemara-z-okazji-50-rocznicy-sakramentu-malzenstwa-z-prosba-o-boze-blogoslawienstwo-i-opieke-matki-bozej-wspomozenia-wiernych-wstawiennictwa-swietych-patronow-dla-jubilatow-i-ich-najblizszych-od-siostry-malgorzaty
END:VEVENT
END:VCALENDAR
