BEGIN:VCALENDAR
VERSION:2.0
PRODID:-//https://lecze-salezjanie.pl///DJ-Events//EN
BEGIN:VEVENT
SUMMARY:+ Krystyna Krąpiec - Msza święta gregoriańska (4)
UID:2456@https://lecze-salezjanie.pl/
DTSTART:20241004T170000
DTEND:20241004T170000
DTSTAMP:20260421T115847
CATEGORIES:Msza święta
LOCATION:Suchacz 82-340 Kielecka 14
GEO:54.2856461944789;19.44132685661316
DESCRIPTION:
URL:https://lecze-salezjanie.pl//component/djevents/details/2024-10-04/2456-krystyna-krapiec-msza-swieta-gregorianska-6
END:VEVENT
END:VCALENDAR
