BEGIN:VCALENDAR
VERSION:2.0
PRODID:-//https://lecze-salezjanie.pl///DJ-Events//EN
BEGIN:VEVENT
SUMMARY:+ Krystyna Krąpiec - Msza święta gregoriańska (14)
UID:2439@https://lecze-salezjanie.pl/
DTSTART:20241014T170000
DTEND:20241014T170000
DTSTAMP:20260419T142425
CATEGORIES:Msza święta
LOCATION:Łęcze 82-340 Łęcze 48
GEO:54.2700545652713;19.468870040475466
DESCRIPTION:
URL:https://lecze-salezjanie.pl//component/djevents/details/2024-10-14/2439-krystyna-krapiec-msza-swieta-gregorianska-14
END:VEVENT
END:VCALENDAR
