BEGIN:VCALENDAR
VERSION:2.0
PRODID:-//https://lecze-salezjanie.pl///DJ-Events//EN
BEGIN:VEVENT
SUMMARY:O Boże błogosławieństwo i uwolnienie z aresztu dla Karoliny, księdza Michała i Urszuli za wstawiennictwem Matki Bożej Bolesnej i św. Józefa
UID:2462@https://lecze-salezjanie.pl/
DTSTART:20241017T170000
DTEND:20241017T170000
DTSTAMP:20260419T142041
CATEGORIES:Msza święta
LOCATION:Suchacz 82-340 Kielecka 14
GEO:54.2856461944789;19.44132685661316
DESCRIPTION:
URL:https://lecze-salezjanie.pl//component/djevents/details/2024-10-17/2462-o-boze-blogoslawienstwo-i-uwolnienie-z-aresztu-dla-karoliny-ksiedza-michala-i-urszuli-za-wstawiennictwem-matki-bozej-bolesnej-i-sw-jozefa
END:VEVENT
END:VCALENDAR
