BEGIN:VCALENDAR
VERSION:2.0
PRODID:-//https://lecze-salezjanie.pl///DJ-Events//EN
BEGIN:VEVENT
SUMMARY:+ Wioletta Anna Grzegrzółka
UID:2364@https://lecze-salezjanie.pl/
DTSTART:20241020T090000
DTEND:20241020T090000
DTSTAMP:20260419T145419
CATEGORIES:Msza święta
LOCATION:Suchacz 82-340 Kielecka 14
GEO:54.2856461944789;19.44132685661316
DESCRIPTION:
URL:https://lecze-salezjanie.pl//component/djevents/details/2024-10-20/2364-wioletta-anna-grzegrzolka-3
END:VEVENT
END:VCALENDAR
