BEGIN:VCALENDAR
VERSION:2.0
PRODID:-//https://lecze-salezjanie.pl///DJ-Events//EN
BEGIN:VEVENT
SUMMARY:O dar nieba dla Janusza, Sławomira i Piotra
UID:2424@https://lecze-salezjanie.pl/
DTSTART:20241020T120000
DTEND:20241020T120000
DTSTAMP:20260419T145440
CATEGORIES:Msza święta
LOCATION:Kamionek Wielki 82-340 Kamionek Wielki 5
GEO:54.262029131955885;19.404954271163948
DESCRIPTION:
URL:https://lecze-salezjanie.pl//component/djevents/details/2024-10-20/2424-o-dar-nieba-dla-janusza-slawomira-i-piotra
END:VEVENT
END:VCALENDAR
