BEGIN:VCALENDAR
VERSION:2.0
PRODID:-//https://lecze-salezjanie.pl///DJ-Events//EN
BEGIN:VEVENT
SUMMARY:+ Eugeniusz, Jadwiga, Czesław Janik oraz zmarli rodzice z obojga stron
UID:2480@https://lecze-salezjanie.pl/
DTSTART:20241020T090000
DTEND:20241020T090000
DTSTAMP:20260419T145538
CATEGORIES:Msza święta
LOCATION:Łęcze 82-340 Łęcze 48
GEO:54.2700545652713;19.468870040475466
DESCRIPTION:
URL:https://lecze-salezjanie.pl//component/djevents/details/2024-10-20/2480-eugeniusz-jadwiga-czeslaw-janik-oraz-zmarli-rodzice-z-obojga-stron
END:VEVENT
END:VCALENDAR
