BEGIN:VCALENDAR
VERSION:2.0
PRODID:-//https://lecze-salezjanie.pl///DJ-Events//EN
BEGIN:VEVENT
SUMMARY:+ Krystyna Krąpiec - Msza święta gregoriańska (22)
UID:2464@https://lecze-salezjanie.pl/
DTSTART:20241022T170000
DTEND:20241022T170000
DTSTAMP:20260419T145408
CATEGORIES:Msza święta
LOCATION:Suchacz 82-340 Kielecka 14
GEO:54.2856461944789;19.44132685661316
DESCRIPTION:
URL:https://lecze-salezjanie.pl//component/djevents/details/2024-10-22/2464-krystyna-krapiec-msza-swieta-gregorianska-22
END:VEVENT
END:VCALENDAR
