BEGIN:VCALENDAR
VERSION:2.0
PRODID:-//https://lecze-salezjanie.pl///DJ-Events//EN
BEGIN:VEVENT
SUMMARY:Za księdza Olszewskiego, księdza Glassa oraz Urszulę i Karolinę o łaskę zwolnienia z aresztu i przywróceniu dobrego imienia
UID:2481@https://lecze-salezjanie.pl/
DTSTART:20241022T170000
DTEND:20241022T170000
DTSTAMP:20260419T145538
CATEGORIES:Msza święta
LOCATION:Suchacz 82-340 Kielecka 14
GEO:54.2856461944789;19.44132685661316
DESCRIPTION:
URL:https://lecze-salezjanie.pl//component/djevents/details/2024-10-22/2481-za-ksiedza-olszewskiego-ksiedza-glassa-oraz-urszule-i-karoline-o-laske-zwolnienia-z-aresztu-i-przywroceniu-dobrego-imienia
END:VEVENT
END:VCALENDAR
