BEGIN:VCALENDAR
VERSION:2.0
PRODID:-//https://lecze-salezjanie.pl///DJ-Events//EN
BEGIN:VEVENT
SUMMARY:+ Marian Gołębiowski 
UID:2482@https://lecze-salezjanie.pl/
DTSTART:20241024T130000
DTEND:20241024T130000
DTSTAMP:20260419T145142
CATEGORIES:Pogrzeb
LOCATION:Łęcze 82-340 Łęcze 48
GEO:54.2700545652713;19.468870040475466
DESCRIPTION:
URL:https://lecze-salezjanie.pl//component/djevents/details/2024-10-24/2482-marian-golebiowski
END:VEVENT
END:VCALENDAR
