BEGIN:VCALENDAR
VERSION:2.0
PRODID:-//https://lecze-salezjanie.pl///DJ-Events//EN
BEGIN:VEVENT
SUMMARY:+ Andrzej Rakowski - w 6 rocznicę śmierci
UID:2610@https://lecze-salezjanie.pl/
DTSTART:20250112T090000
DTEND:20250112T090000
DTSTAMP:20260419T135028
CATEGORIES:Msza święta
LOCATION:Suchacz 82-340 Kielecka 14
GEO:54.2856461944789;19.44132685661316
DESCRIPTION:
URL:https://lecze-salezjanie.pl//component/djevents/details/2025-01-12/2610-andrzej-rakowski-w-6-rocznice-smierci
END:VEVENT
END:VCALENDAR
