BEGIN:VCALENDAR
VERSION:2.0
PRODID:-//https://lecze-salezjanie.pl///DJ-Events//EN
BEGIN:VEVENT
SUMMARY:+ Szczepan, Marianna, Jan Dziechciarz, Zofia i Henryk Filip, zmarli z rodziny
UID:2614@https://lecze-salezjanie.pl/
DTSTART:20250112T120000
DTEND:20250112T120000
DTSTAMP:20260419T172447
CATEGORIES:Msza święta
LOCATION:Kamionek Wielki 82-340 Kamionek Wielki 5
GEO:54.262029131955885;19.404954271163948
DESCRIPTION:
URL:https://lecze-salezjanie.pl//component/djevents/details/2025-01-12/2614-szczepan-marianna-jan-dziechciarz-zofia-i-henryk-filip-zmarli-z-rodziny
END:VEVENT
END:VCALENDAR
