BEGIN:VCALENDAR
VERSION:2.0
PRODID:-//https://lecze-salezjanie.pl///DJ-Events//EN
BEGIN:VEVENT
SUMMARY:Za żywych i zmarłych parafian
UID:2625@https://lecze-salezjanie.pl/
DTSTART:20250112T120000
DTEND:20250112T120000
DTSTAMP:20260419T135427
CATEGORIES:Msza święta
LOCATION:Łęcze 82-340 Łęcze 48
GEO:54.2700545652713;19.468870040475466
DESCRIPTION:
URL:https://lecze-salezjanie.pl//component/djevents/details/2025-01-12/2625-za-zywych-i-zmarlych-parafian-2
END:VEVENT
END:VCALENDAR
