BEGIN:VCALENDAR
VERSION:2.0
PRODID:-//https://lecze-salezjanie.pl///DJ-Events//EN
BEGIN:VEVENT
SUMMARY:Za dusze w czyśćcu cierpiące
UID:2656@https://lecze-salezjanie.pl/
DTSTART:20250116T150000
DTEND:20250116T150000
DTSTAMP:20260419T135027
CATEGORIES:Msza święta
LOCATION:Łęcze 82-340 Łęcze 48
GEO:54.2700545652713;19.468870040475466
DESCRIPTION:
URL:https://lecze-salezjanie.pl//component/djevents/details/2025-01-16/2656-za-dusze-w-czysccu-cierpiace-2
END:VEVENT
END:VCALENDAR
