BEGIN:VCALENDAR
VERSION:2.0
PRODID:-//https://lecze-salezjanie.pl///DJ-Events//EN
BEGIN:VEVENT
SUMMARY:O Boże Błogosławieństwo i potrzebne łaski dla księdza Mariusza z racji imienin
UID:2638@https://lecze-salezjanie.pl/
DTSTART:20250118T100000
DTEND:20250118T100000
DTSTAMP:20260419T141922
CATEGORIES:Msza święta
LOCATION:Łęcze 82-340 Łęcze 48
GEO:54.2700545652713;19.468870040475466
DESCRIPTION:
URL:https://lecze-salezjanie.pl//component/djevents/details/2025-01-18/2638-o-boze-blogoslawienstwo-i-potrzebne-laski-dla-ksiedza-mariusza-z-racji-imienin
END:VEVENT
END:VCALENDAR
