BEGIN:VCALENDAR
VERSION:2.0
PRODID:-//https://lecze-salezjanie.pl///DJ-Events//EN
BEGIN:VEVENT
SUMMARY:Za żywych i zmarłych Babcie i Dziadków
UID:2665@https://lecze-salezjanie.pl/
DTSTART:20250122T150000
DTEND:20250122T150000
DTSTAMP:20260419T153918
CATEGORIES:Msza święta
LOCATION:Łęcze 82-340 Łęcze 48
GEO:54.2700545652713;19.468870040475466
DESCRIPTION:
URL:https://lecze-salezjanie.pl//component/djevents/details/2025-01-22/2665-za-zywych-i-zmarlych-babcie-i-dziadkow
END:VEVENT
END:VCALENDAR
