BEGIN:VCALENDAR
VERSION:2.0
PRODID:-//https://lecze-salezjanie.pl///DJ-Events//EN
BEGIN:VEVENT
SUMMARY:Za odwiedzonych na kolędzie
UID:2669@https://lecze-salezjanie.pl/
DTSTART:20250125T170000
DTEND:20250125T170000
DTSTAMP:20260419T135410
CATEGORIES:Msza święta
LOCATION:Łęcze 82-340 Łęcze 48
GEO:54.2700545652713;19.468870040475466
DESCRIPTION:
URL:https://lecze-salezjanie.pl//component/djevents/details/2025-01-25/2669-za-odwiedzonych-na-koledzie
END:VEVENT
END:VCALENDAR
